BEGIN:VCALENDAR
VERSION:2.0
PRODID:-//Caveau de Luins-Vinzel - ECPv6.15.20//NONSGML v1.0//EN
CALSCALE:GREGORIAN
METHOD:PUBLISH
X-WR-CALNAME:Caveau de Luins-Vinzel
X-ORIGINAL-URL:https://caveau-luins-vinzel.ch
X-WR-CALDESC:Évènements pour Caveau de Luins-Vinzel
REFRESH-INTERVAL;VALUE=DURATION:PT1H
X-Robots-Tag:noindex
X-PUBLISHED-TTL:PT1H
BEGIN:VTIMEZONE
TZID:Europe/Zurich
BEGIN:DAYLIGHT
TZOFFSETFROM:+0100
TZOFFSETTO:+0200
TZNAME:CEST
DTSTART:20250330T010000
END:DAYLIGHT
BEGIN:STANDARD
TZOFFSETFROM:+0200
TZOFFSETTO:+0100
TZNAME:CET
DTSTART:20251026T010000
END:STANDARD
BEGIN:DAYLIGHT
TZOFFSETFROM:+0100
TZOFFSETTO:+0200
TZNAME:CEST
DTSTART:20260329T010000
END:DAYLIGHT
BEGIN:STANDARD
TZOFFSETFROM:+0200
TZOFFSETTO:+0100
TZNAME:CET
DTSTART:20261025T010000
END:STANDARD
BEGIN:DAYLIGHT
TZOFFSETFROM:+0100
TZOFFSETTO:+0200
TZNAME:CEST
DTSTART:20270328T010000
END:DAYLIGHT
BEGIN:STANDARD
TZOFFSETFROM:+0200
TZOFFSETTO:+0100
TZNAME:CET
DTSTART:20271031T010000
END:STANDARD
END:VTIMEZONE
BEGIN:VEVENT
DTSTART;VALUE=DATE:20260518
DTEND;VALUE=DATE:20260525
DTSTAMP:20260423T001815
CREATED:20210512T164658Z
LAST-MODIFIED:20260112T054435Z
UID:2491-1779062400-1779667199@caveau-luins-vinzel.ch
SUMMARY:Philippe Sordet - DOMAINE D'ARZILLIER
DESCRIPTION:Philippe SORDET \nRoute de l’Etraz 2A\n1184 LUINS \nTél: +41 79 487 07 77 \nE-Mail: benoit.sordet@bluewin.ch
URL:https://caveau-luins-vinzel.ch/event/2491/
CATEGORIES:Le Vigneron de la semaine
END:VEVENT
END:VCALENDAR