BEGIN:VCALENDAR
VERSION:2.0
PRODID:-//Caveau de Luins-Vinzel - ECPv6.15.20//NONSGML v1.0//EN
CALSCALE:GREGORIAN
METHOD:PUBLISH
X-WR-CALNAME:Caveau de Luins-Vinzel
X-ORIGINAL-URL:https://caveau-luins-vinzel.ch
X-WR-CALDESC:Évènements pour Caveau de Luins-Vinzel
REFRESH-INTERVAL;VALUE=DURATION:PT1H
X-Robots-Tag:noindex
X-PUBLISHED-TTL:PT1H
BEGIN:VTIMEZONE
TZID:Europe/Zurich
BEGIN:DAYLIGHT
TZOFFSETFROM:+0100
TZOFFSETTO:+0200
TZNAME:CEST
DTSTART:20250330T010000
END:DAYLIGHT
BEGIN:STANDARD
TZOFFSETFROM:+0200
TZOFFSETTO:+0100
TZNAME:CET
DTSTART:20251026T010000
END:STANDARD
BEGIN:DAYLIGHT
TZOFFSETFROM:+0100
TZOFFSETTO:+0200
TZNAME:CEST
DTSTART:20260329T010000
END:DAYLIGHT
BEGIN:STANDARD
TZOFFSETFROM:+0200
TZOFFSETTO:+0100
TZNAME:CET
DTSTART:20261025T010000
END:STANDARD
BEGIN:DAYLIGHT
TZOFFSETFROM:+0100
TZOFFSETTO:+0200
TZNAME:CEST
DTSTART:20270328T010000
END:DAYLIGHT
BEGIN:STANDARD
TZOFFSETFROM:+0200
TZOFFSETTO:+0100
TZNAME:CET
DTSTART:20271031T010000
END:STANDARD
END:VTIMEZONE
BEGIN:VEVENT
DTSTART;VALUE=DATE:20260601
DTEND;VALUE=DATE:20260608
DTSTAMP:20260423T001404
CREATED:20180205T104202Z
LAST-MODIFIED:20260112T054829Z
UID:2134-1780272000-1780876799@caveau-luins-vinzel.ch
SUMMARY:Philippe et Aline Parmelin - DOMAINE DE CORBIERE
DESCRIPTION:Philippe et Aline PARMELIN\nRoute de St-Vincent\n1183 BURSINS \nTél: +41 21 824 12 38\nMobile: +41 79 625 94 23\ndomainedecorbiere@bluewin.ch
URL:https://caveau-luins-vinzel.ch/event/philippe-et-aline-parmelin-domaine-de-corbiere/
LOCATION:Caveau des Vignerons\, Route de l'Etraz 1\, Luins\, 1184
CATEGORIES:Le Vigneron de la semaine
END:VEVENT
END:VCALENDAR