BEGIN:VCALENDAR
VERSION:2.0
PRODID:-//Caveau de Luins-Vinzel - ECPv6.15.20//NONSGML v1.0//EN
CALSCALE:GREGORIAN
METHOD:PUBLISH
X-WR-CALNAME:Caveau de Luins-Vinzel
X-ORIGINAL-URL:https://caveau-luins-vinzel.ch
X-WR-CALDESC:Évènements pour Caveau de Luins-Vinzel
REFRESH-INTERVAL;VALUE=DURATION:PT1H
X-Robots-Tag:noindex
X-PUBLISHED-TTL:PT1H
BEGIN:VTIMEZONE
TZID:Europe/Zurich
BEGIN:DAYLIGHT
TZOFFSETFROM:+0100
TZOFFSETTO:+0200
TZNAME:CEST
DTSTART:20250330T010000
END:DAYLIGHT
BEGIN:STANDARD
TZOFFSETFROM:+0200
TZOFFSETTO:+0100
TZNAME:CET
DTSTART:20251026T010000
END:STANDARD
BEGIN:DAYLIGHT
TZOFFSETFROM:+0100
TZOFFSETTO:+0200
TZNAME:CEST
DTSTART:20260329T010000
END:DAYLIGHT
BEGIN:STANDARD
TZOFFSETFROM:+0200
TZOFFSETTO:+0100
TZNAME:CET
DTSTART:20261025T010000
END:STANDARD
BEGIN:DAYLIGHT
TZOFFSETFROM:+0100
TZOFFSETTO:+0200
TZNAME:CEST
DTSTART:20270328T010000
END:DAYLIGHT
BEGIN:STANDARD
TZOFFSETFROM:+0200
TZOFFSETTO:+0100
TZNAME:CET
DTSTART:20271031T010000
END:STANDARD
END:VTIMEZONE
BEGIN:VEVENT
DTSTART;VALUE=DATE:20260720
DTEND;VALUE=DATE:20260727
DTSTAMP:20260423T044622
CREATED:20250306T135252Z
LAST-MODIFIED:20260112T055254Z
UID:3022-1784505600-1785110399@caveau-luins-vinzel.ch
SUMMARY:LES VIGNERONS RETRAITÉS
DESCRIPTION:Week-end des vignerons retraités. \nResponsable : Jean-Daniel Quiblier – 079.433.43.15
URL:https://caveau-luins-vinzel.ch/event/les-vignerons-retraites/
CATEGORIES:Le Vigneron de la semaine
END:VEVENT
END:VCALENDAR