BEGIN:VCALENDAR
VERSION:2.0
PRODID:-//Caveau de Luins-Vinzel - ECPv6.15.20//NONSGML v1.0//EN
CALSCALE:GREGORIAN
METHOD:PUBLISH
X-ORIGINAL-URL:https://caveau-luins-vinzel.ch
X-WR-CALDESC:Évènements pour Caveau de Luins-Vinzel
REFRESH-INTERVAL;VALUE=DURATION:PT1H
X-Robots-Tag:noindex
X-PUBLISHED-TTL:PT1H
BEGIN:VTIMEZONE
TZID:Europe/Zurich
BEGIN:DAYLIGHT
TZOFFSETFROM:+0100
TZOFFSETTO:+0200
TZNAME:CEST
DTSTART:20250330T010000
END:DAYLIGHT
BEGIN:STANDARD
TZOFFSETFROM:+0200
TZOFFSETTO:+0100
TZNAME:CET
DTSTART:20251026T010000
END:STANDARD
BEGIN:DAYLIGHT
TZOFFSETFROM:+0100
TZOFFSETTO:+0200
TZNAME:CEST
DTSTART:20260329T010000
END:DAYLIGHT
BEGIN:STANDARD
TZOFFSETFROM:+0200
TZOFFSETTO:+0100
TZNAME:CET
DTSTART:20261025T010000
END:STANDARD
BEGIN:DAYLIGHT
TZOFFSETFROM:+0100
TZOFFSETTO:+0200
TZNAME:CEST
DTSTART:20270328T010000
END:DAYLIGHT
BEGIN:STANDARD
TZOFFSETFROM:+0200
TZOFFSETTO:+0100
TZNAME:CET
DTSTART:20271031T010000
END:STANDARD
END:VTIMEZONE
BEGIN:VEVENT
DTSTART;VALUE=DATE:20260727
DTEND;VALUE=DATE:20260803
DTSTAMP:20260423T051427
CREATED:20180207T060114Z
LAST-MODIFIED:20260112T055339Z
UID:2156-1785110400-1785715199@caveau-luins-vinzel.ch
SUMMARY:COMITÉ DU CAVEAU ET BROCHE DU 1ER AOÛT
DESCRIPTION:Le Caveau est tenu par les membres du comité du Caveau durant le week-end. \nLa traditionnelle broche aura lieu le samedi 1er août 2026 dès 11h au Caveau. Le caveau sera donc ouvert toute la journée jusqu’à 21h30. \nMERCI DE VOUS INSCRIRE ! \nInscription par email (info@caveau-luins-vinzel.ch). \nMenu du jour : Salade\, Broche et dessert pour 25.- par personnes. Enfants jusqu’à 12 ans\, gratuit. \nOn se réjouis de passer cette journée avec vous ! \nSylvie Métroz\, Fabien Monachon\, Gaetan Wettstein\, Sébastien Parmelin\, Vincent Chappuis\, et Raphaël Sordet
URL:https://caveau-luins-vinzel.ch/event/comite-du-caveau/
LOCATION:Caveau des Vignerons\, Route de l'Etraz 1\, Luins\, 1184
CATEGORIES:Le Vigneron de la semaine
END:VEVENT
END:VCALENDAR