BEGIN:VCALENDAR
VERSION:2.0
PRODID:-//Caveau de Luins-Vinzel - ECPv6.15.20//NONSGML v1.0//EN
CALSCALE:GREGORIAN
METHOD:PUBLISH
X-WR-CALNAME:Caveau de Luins-Vinzel
X-ORIGINAL-URL:https://caveau-luins-vinzel.ch
X-WR-CALDESC:Évènements pour Caveau de Luins-Vinzel
REFRESH-INTERVAL;VALUE=DURATION:PT1H
X-Robots-Tag:noindex
X-PUBLISHED-TTL:PT1H
BEGIN:VTIMEZONE
TZID:Europe/Zurich
BEGIN:DAYLIGHT
TZOFFSETFROM:+0100
TZOFFSETTO:+0200
TZNAME:CEST
DTSTART:20250330T010000
END:DAYLIGHT
BEGIN:STANDARD
TZOFFSETFROM:+0200
TZOFFSETTO:+0100
TZNAME:CET
DTSTART:20251026T010000
END:STANDARD
BEGIN:DAYLIGHT
TZOFFSETFROM:+0100
TZOFFSETTO:+0200
TZNAME:CEST
DTSTART:20260329T010000
END:DAYLIGHT
BEGIN:STANDARD
TZOFFSETFROM:+0200
TZOFFSETTO:+0100
TZNAME:CET
DTSTART:20261025T010000
END:STANDARD
BEGIN:DAYLIGHT
TZOFFSETFROM:+0100
TZOFFSETTO:+0200
TZNAME:CEST
DTSTART:20270328T010000
END:DAYLIGHT
BEGIN:STANDARD
TZOFFSETFROM:+0200
TZOFFSETTO:+0100
TZNAME:CET
DTSTART:20271031T010000
END:STANDARD
END:VTIMEZONE
BEGIN:VEVENT
DTSTART;VALUE=DATE:20260831
DTEND;VALUE=DATE:20260907
DTSTAMP:20260423T092702
CREATED:20180208T062324Z
LAST-MODIFIED:20260112T055827Z
UID:2170-1788134400-1788739199@caveau-luins-vinzel.ch
SUMMARY:Fanny et André-Louis Métroz - CAVE DU FORT - OUVERT DÈS JEUDI 03.09. - CONCOURS RÉGIONS ET MILLÉSIMES
DESCRIPTION:Fanny et André-Louis MÉTROZ \nRue du Fort 2\n1268 BEGNINS \nTél: +41 22 366 27 74\nFax: +41 22 366 30 06 \nE-Mail : contact@cave-du-fort.ch \n————————————– \nJeudi 03.09.2026 : Concours des régions – Manche du verre d’or (de 16h à 19h) \nVendredi 04.09.2026 : Concours des millésimes blancs – Hors verre d’or (de 16h à 19h)
URL:https://caveau-luins-vinzel.ch/event/cave-du-fort/
LOCATION:Caveau des Vignerons\, Route de l'Etraz 1\, Luins\, 1184
CATEGORIES:Le Vigneron de la semaine
END:VEVENT
END:VCALENDAR