BEGIN:VCALENDAR
VERSION:2.0
PRODID:-//Caveau de Luins-Vinzel - ECPv6.15.20//NONSGML v1.0//EN
CALSCALE:GREGORIAN
METHOD:PUBLISH
X-WR-CALNAME:Caveau de Luins-Vinzel
X-ORIGINAL-URL:https://caveau-luins-vinzel.ch
X-WR-CALDESC:Évènements pour Caveau de Luins-Vinzel
REFRESH-INTERVAL;VALUE=DURATION:PT1H
X-Robots-Tag:noindex
X-PUBLISHED-TTL:PT1H
BEGIN:VTIMEZONE
TZID:Europe/Zurich
BEGIN:DAYLIGHT
TZOFFSETFROM:+0100
TZOFFSETTO:+0200
TZNAME:CEST
DTSTART:20250330T010000
END:DAYLIGHT
BEGIN:STANDARD
TZOFFSETFROM:+0200
TZOFFSETTO:+0100
TZNAME:CET
DTSTART:20251026T010000
END:STANDARD
BEGIN:DAYLIGHT
TZOFFSETFROM:+0100
TZOFFSETTO:+0200
TZNAME:CEST
DTSTART:20260329T010000
END:DAYLIGHT
BEGIN:STANDARD
TZOFFSETFROM:+0200
TZOFFSETTO:+0100
TZNAME:CET
DTSTART:20261025T010000
END:STANDARD
BEGIN:DAYLIGHT
TZOFFSETFROM:+0100
TZOFFSETTO:+0200
TZNAME:CEST
DTSTART:20270328T010000
END:DAYLIGHT
BEGIN:STANDARD
TZOFFSETFROM:+0200
TZOFFSETTO:+0100
TZNAME:CET
DTSTART:20271031T010000
END:STANDARD
END:VTIMEZONE
BEGIN:VEVENT
DTSTART;VALUE=DATE:20260907
DTEND;VALUE=DATE:20260914
DTSTAMP:20260423T101402
CREATED:20180208T071959Z
LAST-MODIFIED:20260112T055915Z
UID:2195-1788739200-1789343999@caveau-luins-vinzel.ch
SUMMARY:Fabien et J.-D. Monachon - CAVE DES RUAZ / CHÂTEAU DE VINZEL
DESCRIPTION:Fabien et Jean-Daniel MONACHON \nLe Château\n1184 VINZEL \nTél: +41 21 824 16 00\nFax: +41 21 824 20 44\nMobile Fabien :+41 79 563 18 63 \nE-Mail: info@cavedesruaz.ch \nwww.cavedesruaz.ch
URL:https://caveau-luins-vinzel.ch/event/fabien-et-j-d-monachon-cave-des-ruaz-chateau-de-vinzel-3/
LOCATION:Caveau des Vignerons\, Route de l'Etraz 1\, Luins\, 1184
CATEGORIES:Le Vigneron de la semaine
END:VEVENT
END:VCALENDAR