BEGIN:VCALENDAR
VERSION:2.0
PRODID:-//Caveau de Luins-Vinzel - ECPv6.15.20//NONSGML v1.0//EN
CALSCALE:GREGORIAN
METHOD:PUBLISH
X-WR-CALNAME:Caveau de Luins-Vinzel
X-ORIGINAL-URL:https://caveau-luins-vinzel.ch
X-WR-CALDESC:Évènements pour Caveau de Luins-Vinzel
REFRESH-INTERVAL;VALUE=DURATION:PT1H
X-Robots-Tag:noindex
X-PUBLISHED-TTL:PT1H
BEGIN:VTIMEZONE
TZID:Europe/Zurich
BEGIN:DAYLIGHT
TZOFFSETFROM:+0100
TZOFFSETTO:+0200
TZNAME:CEST
DTSTART:20250330T010000
END:DAYLIGHT
BEGIN:STANDARD
TZOFFSETFROM:+0200
TZOFFSETTO:+0100
TZNAME:CET
DTSTART:20251026T010000
END:STANDARD
BEGIN:DAYLIGHT
TZOFFSETFROM:+0100
TZOFFSETTO:+0200
TZNAME:CEST
DTSTART:20260329T010000
END:DAYLIGHT
BEGIN:STANDARD
TZOFFSETFROM:+0200
TZOFFSETTO:+0100
TZNAME:CET
DTSTART:20261025T010000
END:STANDARD
BEGIN:DAYLIGHT
TZOFFSETFROM:+0100
TZOFFSETTO:+0200
TZNAME:CEST
DTSTART:20270328T010000
END:DAYLIGHT
BEGIN:STANDARD
TZOFFSETFROM:+0200
TZOFFSETTO:+0100
TZNAME:CET
DTSTART:20271031T010000
END:STANDARD
END:VTIMEZONE
BEGIN:VEVENT
DTSTART;VALUE=DATE:20260202
DTEND;VALUE=DATE:20260209
DTSTAMP:20260423T001749
CREATED:20180104T170343Z
LAST-MODIFIED:20260104T090828Z
UID:2086-1769990400-1770595199@caveau-luins-vinzel.ch
SUMMARY:Gilles Favre - CAVE DU TREYBLANC ET CONCOURS DES CÉPAGES BLANCS
DESCRIPTION:Gilles FAVRE  \nRoute de l’Etraz \n1184 LUINS \nTél: +41 21 824 31 11 \nMobile: +41 79 325 06 60 \nE-Mail : gillesfavre@hotmail.com \nwww.cavedutreyblanc.ch \n  \nLe concours des cépages blancs aura lieu le vendredi 6 février 2026 de 16h à 19h.
URL:https://caveau-luins-vinzel.ch/event/gilles-favre-cave-du-treyblanc/
LOCATION:Caveau des Vignerons\, Route de l'Etraz 1\, Luins\, 1184
CATEGORIES:Le Vigneron de la semaine
END:VEVENT
BEGIN:VEVENT
DTSTART;VALUE=DATE:20260209
DTEND;VALUE=DATE:20260216
DTSTAMP:20260423T001749
CREATED:20180205T101451Z
LAST-MODIFIED:20260104T090951Z
UID:2108-1770595200-1771199999@caveau-luins-vinzel.ch
SUMMARY:Alain Bersier - CAVE DES SAULES
DESCRIPTION:Alain BERSIER \nchemin du Vernay 7\n1184 LUINS \nTél:+41 21 825 20 35\nMobile: +41 79 778 81 75 \nalbersier@yahoo.com
URL:https://caveau-luins-vinzel.ch/event/monique-et-alain-bersier-cave-des-saules/
LOCATION:Caveau des Vignerons\, Route de l'Etraz 1\, Luins\, 1184
CATEGORIES:Le Vigneron de la semaine
END:VEVENT
BEGIN:VEVENT
DTSTART;VALUE=DATE:20260216
DTEND;VALUE=DATE:20260223
DTSTAMP:20260423T001749
CREATED:20180207T055426Z
LAST-MODIFIED:20260104T091034Z
UID:2150-1771200000-1771804799@caveau-luins-vinzel.ch
SUMMARY:Simon Gay - CHÂTEAU LA BATIE
DESCRIPTION:CAVE DE LA CÔTE \nVigneron : Simon GAY \nChâteau La Bâtie\nRue du Collège 27\n1184 VINZEL \nMobile: +41 79 635 73 38 \nE-Mail: info@cavedelacote.ch
URL:https://caveau-luins-vinzel.ch/event/chateau-la-batie/
LOCATION:Caveau des Vignerons\, Route de l'Etraz 1\, Luins\, 1184
CATEGORIES:Le Vigneron de la semaine
END:VEVENT
BEGIN:VEVENT
DTSTART;VALUE=DATE:20260223
DTEND;VALUE=DATE:20260302
DTSTAMP:20260423T001749
CREATED:20180207T060845Z
LAST-MODIFIED:20260110T094645Z
UID:2162-1771804800-1772409599@caveau-luins-vinzel.ch
SUMMARY:Yann Menthonnex - DOMAINE DELAHARPE
DESCRIPTION:Yann et Karine Menthonnex \nRue de l’Eglise 11 \n1183 BURSINS \nTél: +41 21 824 22 30 \nMobile: +41 79 475 27 49 \nE-Mail : yannmenthonnex@hotmail.com \nwww.domainedelaharpe.ch
URL:https://caveau-luins-vinzel.ch/event/yann-menthonnex-domaine-delaharpe/
LOCATION:Caveau des Vignerons\, Route de l'Etraz 1\, Luins\, 1184
CATEGORIES:Le Vigneron de la semaine
END:VEVENT
END:VCALENDAR