BEGIN:VCALENDAR
VERSION:2.0
PRODID:-//Caveau de Luins-Vinzel - ECPv6.15.20//NONSGML v1.0//EN
CALSCALE:GREGORIAN
METHOD:PUBLISH
X-WR-CALNAME:Caveau de Luins-Vinzel
X-ORIGINAL-URL:https://caveau-luins-vinzel.ch
X-WR-CALDESC:Évènements pour Caveau de Luins-Vinzel
REFRESH-INTERVAL;VALUE=DURATION:PT1H
X-Robots-Tag:noindex
X-PUBLISHED-TTL:PT1H
BEGIN:VTIMEZONE
TZID:Europe/Zurich
BEGIN:DAYLIGHT
TZOFFSETFROM:+0100
TZOFFSETTO:+0200
TZNAME:CEST
DTSTART:20250330T010000
END:DAYLIGHT
BEGIN:STANDARD
TZOFFSETFROM:+0200
TZOFFSETTO:+0100
TZNAME:CET
DTSTART:20251026T010000
END:STANDARD
BEGIN:DAYLIGHT
TZOFFSETFROM:+0100
TZOFFSETTO:+0200
TZNAME:CEST
DTSTART:20260329T010000
END:DAYLIGHT
BEGIN:STANDARD
TZOFFSETFROM:+0200
TZOFFSETTO:+0100
TZNAME:CET
DTSTART:20261025T010000
END:STANDARD
BEGIN:DAYLIGHT
TZOFFSETFROM:+0100
TZOFFSETTO:+0200
TZNAME:CEST
DTSTART:20270328T010000
END:DAYLIGHT
BEGIN:STANDARD
TZOFFSETFROM:+0200
TZOFFSETTO:+0100
TZNAME:CET
DTSTART:20271031T010000
END:STANDARD
END:VTIMEZONE
BEGIN:VEVENT
DTSTART;VALUE=DATE:20260223
DTEND;VALUE=DATE:20260302
DTSTAMP:20260422T192523
CREATED:20180207T060845Z
LAST-MODIFIED:20260110T094645Z
UID:2162-1771804800-1772409599@caveau-luins-vinzel.ch
SUMMARY:Yann Menthonnex - DOMAINE DELAHARPE
DESCRIPTION:Yann et Karine Menthonnex \nRue de l’Eglise 11 \n1183 BURSINS \nTél: +41 21 824 22 30 \nMobile: +41 79 475 27 49 \nE-Mail : yannmenthonnex@hotmail.com \nwww.domainedelaharpe.ch
URL:https://caveau-luins-vinzel.ch/event/yann-menthonnex-domaine-delaharpe/
LOCATION:Caveau des Vignerons\, Route de l'Etraz 1\, Luins\, 1184
CATEGORIES:Le Vigneron de la semaine
END:VEVENT
BEGIN:VEVENT
DTSTART;VALUE=DATE:20260302
DTEND;VALUE=DATE:20260309
DTSTAMP:20260422T192523
CREATED:20180208T072246Z
LAST-MODIFIED:20260110T095004Z
UID:2202-1772409600-1773014399@caveau-luins-vinzel.ch
SUMMARY:Romain Crausaz - DOMAINE DE SARRAUX-DESSOUS
DESCRIPTION:Romain CRAUSAZ \nDomaine de Sarraux-Dessous\nChemin de Sarraux-Dessous 6\n1268 BEGNINS \nTél. : +41 78 811 53 67 \nE-Mail: romain@sarraux-dessous.ch\nwww.sarraux-dessous.ch
URL:https://caveau-luins-vinzel.ch/event/eric-barbay-domaine-de-sarraux-dessous-3/
LOCATION:Caveau des Vignerons\, Route de l'Etraz 1\, Luins\, 1184
CATEGORIES:Le Vigneron de la semaine
END:VEVENT
BEGIN:VEVENT
DTSTART;VALUE=DATE:20260309
DTEND;VALUE=DATE:20260316
DTSTAMP:20260422T192523
CREATED:20250206T202409Z
LAST-MODIFIED:20260110T095119Z
UID:2879-1773014400-1773619199@caveau-luins-vinzel.ch
SUMMARY:Raphaël et Rémy Sordet - DOMAINE DES COMBES
DESCRIPTION:Raphaël et Rémy SORDET \nChemin de Luins 2\n1268 BEGNINS \nRaphaël: +41 79 764 42 54 \nRémy: +41 79 417 04 60\nE-Mail: info@rsordet.ch\nwww.rsordet.ch
URL:https://caveau-luins-vinzel.ch/event/domaine-des-combes3/
CATEGORIES:Le Vigneron de la semaine
END:VEVENT
BEGIN:VEVENT
DTSTART;VALUE=DATE:20260316
DTEND;VALUE=DATE:20260323
DTSTAMP:20260422T192523
CREATED:20250206T135251Z
LAST-MODIFIED:20260110T095146Z
UID:2871-1773619200-1774223999@caveau-luins-vinzel.ch
SUMMARY:Philippe et Aline PARMELIN - DOMAINE DE CORBIÈRE
DESCRIPTION:Philippe et Aline PARMELIN\nRoute de St-Vincent\n1183 BURSINS \nTél: +41 21 824 12 38\nMobile: +41 79 625 94 23\ndomainedecorbiere@bluewin.ch
URL:https://caveau-luins-vinzel.ch/event/philippe-et-aline-parmelin-domaine-de-corbiere-2/
CATEGORIES:Le Vigneron de la semaine
END:VEVENT
BEGIN:VEVENT
DTSTART;VALUE=DATE:20260323
DTEND;VALUE=DATE:20260330
DTSTAMP:20260422T192523
CREATED:20260305T134818Z
LAST-MODIFIED:20260305T134842Z
UID:3184-1774224000-1774828799@caveau-luins-vinzel.ch
SUMMARY:Fabien et J.-D. Monachon - CAVE DES RUAZ / CHÂTEAU DE VINZEL
DESCRIPTION:Fabien et Jean-Daniel MONACHON \nLe Château\n1184 VINZEL \nTél: +41 21 824 16 00\nFax: +41 21 824 20 44\nMobile Fabien :+41 79 563 18 63 \nE-Mail: info@cavedesruaz.ch \nwww.cavedesruaz.ch
URL:https://caveau-luins-vinzel.ch/event/ruaz/
CATEGORIES:Le Vigneron de la semaine
END:VEVENT
BEGIN:VEVENT
DTSTART;VALUE=DATE:20260330
DTEND;VALUE=DATE:20260406
DTSTAMP:20260422T192523
CREATED:20180208T071533Z
LAST-MODIFIED:20260110T095555Z
UID:2191-1774828800-1775433599@caveau-luins-vinzel.ch
SUMMARY:Martial et Jean-Paul Besson - CAVE DES ROSSILLONNES
DESCRIPTION:Martial BESSON \nRoute du Vignoble 29\n1184 VINZEL \nTél: +41 21 824 12 46\nFax: +41 21 824 12 58\nMobile: +41 79 330 08 60 \nE-Mail: info@cavedesrossillonnes.ch\nwww.cavedesrossillonnes.ch \n\nJean-Paul BESSON \nRoute du Vignoble 29\n1184 VINZEL \nTél: +41 21 824 12 46\nFax: +41 21 824 12 58\nMobile: +41 79 435 14 83 \nE-Mail: info@cavedesrossillonnes.ch\nwww.cavedesrossillonnes.ch
URL:https://caveau-luins-vinzel.ch/event/martial-et-jean-paul-besson-cave-des-rossillonnes-2/
LOCATION:Caveau des Vignerons\, Route de l'Etraz 1\, Luins\, 1184
CATEGORIES:Le Vigneron de la semaine
END:VEVENT
END:VCALENDAR