BEGIN:VCALENDAR
VERSION:2.0
PRODID:-//Caveau de Luins-Vinzel - ECPv6.15.20//NONSGML v1.0//EN
CALSCALE:GREGORIAN
METHOD:PUBLISH
X-WR-CALNAME:Caveau de Luins-Vinzel
X-ORIGINAL-URL:https://caveau-luins-vinzel.ch
X-WR-CALDESC:Évènements pour Caveau de Luins-Vinzel
REFRESH-INTERVAL;VALUE=DURATION:PT1H
X-Robots-Tag:noindex
X-PUBLISHED-TTL:PT1H
BEGIN:VTIMEZONE
TZID:Europe/Zurich
BEGIN:DAYLIGHT
TZOFFSETFROM:+0100
TZOFFSETTO:+0200
TZNAME:CEST
DTSTART:20250330T010000
END:DAYLIGHT
BEGIN:STANDARD
TZOFFSETFROM:+0200
TZOFFSETTO:+0100
TZNAME:CET
DTSTART:20251026T010000
END:STANDARD
BEGIN:DAYLIGHT
TZOFFSETFROM:+0100
TZOFFSETTO:+0200
TZNAME:CEST
DTSTART:20260329T010000
END:DAYLIGHT
BEGIN:STANDARD
TZOFFSETFROM:+0200
TZOFFSETTO:+0100
TZNAME:CET
DTSTART:20261025T010000
END:STANDARD
BEGIN:DAYLIGHT
TZOFFSETFROM:+0100
TZOFFSETTO:+0200
TZNAME:CEST
DTSTART:20270328T010000
END:DAYLIGHT
BEGIN:STANDARD
TZOFFSETFROM:+0200
TZOFFSETTO:+0100
TZNAME:CET
DTSTART:20271031T010000
END:STANDARD
END:VTIMEZONE
BEGIN:VTIMEZONE
TZID:Europe/Paris
BEGIN:DAYLIGHT
TZOFFSETFROM:+0100
TZOFFSETTO:+0200
TZNAME:CEST
DTSTART:20250330T010000
END:DAYLIGHT
BEGIN:STANDARD
TZOFFSETFROM:+0200
TZOFFSETTO:+0100
TZNAME:CET
DTSTART:20251026T010000
END:STANDARD
BEGIN:DAYLIGHT
TZOFFSETFROM:+0100
TZOFFSETTO:+0200
TZNAME:CEST
DTSTART:20260329T010000
END:DAYLIGHT
BEGIN:STANDARD
TZOFFSETFROM:+0200
TZOFFSETTO:+0100
TZNAME:CET
DTSTART:20261025T010000
END:STANDARD
BEGIN:DAYLIGHT
TZOFFSETFROM:+0100
TZOFFSETTO:+0200
TZNAME:CEST
DTSTART:20270328T010000
END:DAYLIGHT
BEGIN:STANDARD
TZOFFSETFROM:+0200
TZOFFSETTO:+0100
TZNAME:CET
DTSTART:20271031T010000
END:STANDARD
END:VTIMEZONE
BEGIN:VEVENT
DTSTART;VALUE=DATE:20260831
DTEND;VALUE=DATE:20260907
DTSTAMP:20260423T065319
CREATED:20180208T062324Z
LAST-MODIFIED:20260112T055827Z
UID:2170-1788134400-1788739199@caveau-luins-vinzel.ch
SUMMARY:Fanny et André-Louis Métroz - CAVE DU FORT - OUVERT DÈS JEUDI 03.09. - CONCOURS RÉGIONS ET MILLÉSIMES
DESCRIPTION:Fanny et André-Louis MÉTROZ \nRue du Fort 2\n1268 BEGNINS \nTél: +41 22 366 27 74\nFax: +41 22 366 30 06 \nE-Mail : contact@cave-du-fort.ch \n————————————– \nJeudi 03.09.2026 : Concours des régions – Manche du verre d’or (de 16h à 19h) \nVendredi 04.09.2026 : Concours des millésimes blancs – Hors verre d’or (de 16h à 19h)
URL:https://caveau-luins-vinzel.ch/event/cave-du-fort/
LOCATION:Caveau des Vignerons\, Route de l'Etraz 1\, Luins\, 1184
CATEGORIES:Le Vigneron de la semaine
END:VEVENT
BEGIN:VEVENT
DTSTART;VALUE=DATE:20260907
DTEND;VALUE=DATE:20260914
DTSTAMP:20260423T065319
CREATED:20180208T071959Z
LAST-MODIFIED:20260112T055915Z
UID:2195-1788739200-1789343999@caveau-luins-vinzel.ch
SUMMARY:Fabien et J.-D. Monachon - CAVE DES RUAZ / CHÂTEAU DE VINZEL
DESCRIPTION:Fabien et Jean-Daniel MONACHON \nLe Château\n1184 VINZEL \nTél: +41 21 824 16 00\nFax: +41 21 824 20 44\nMobile Fabien :+41 79 563 18 63 \nE-Mail: info@cavedesruaz.ch \nwww.cavedesruaz.ch
URL:https://caveau-luins-vinzel.ch/event/fabien-et-j-d-monachon-cave-des-ruaz-chateau-de-vinzel-3/
LOCATION:Caveau des Vignerons\, Route de l'Etraz 1\, Luins\, 1184
CATEGORIES:Le Vigneron de la semaine
END:VEVENT
BEGIN:VEVENT
DTSTART;VALUE=DATE:20260914
DTEND;VALUE=DATE:20260921
DTSTAMP:20260423T065319
CREATED:20180205T094309Z
LAST-MODIFIED:20260112T055959Z
UID:2104-1789344000-1789948799@caveau-luins-vinzel.ch
SUMMARY:Damien Dutruy - DOMAINE MAISON DUTRUY
DESCRIPTION:Damien DUTRUY \nRoute du Village 1\n1184 LUINS \nTél: +41 21 824 25 88\nMobile: +41 79 744 01 65 \nmaisondutruy@bluewin.ch\nhttp://www.maison-dutruy.ch/
URL:https://caveau-luins-vinzel.ch/event/damien-dutruy-domaine-maison-dutruy/
LOCATION:Caveau des Vignerons\, Route de l'Etraz 1\, Luins\, 1184
CATEGORIES:Le Vigneron de la semaine
END:VEVENT
BEGIN:VEVENT
DTSTART;VALUE=DATE:20260921
DTEND;VALUE=DATE:20260928
DTSTAMP:20260423T065319
CREATED:20170628T105216Z
LAST-MODIFIED:20260112T060027Z
UID:1871-1789948800-1790553599@caveau-luins-vinzel.ch
SUMMARY:Messieurs Sumi\, Burgin et Barillier
DESCRIPTION:Le caveau est tenu par Laurent Sumi\, Christian Burgin et Bertrand Barillier lors de ce week-end de vendanges. Merci à eux !
URL:https://caveau-luins-vinzel.ch/event/mm-sumi-burgin-et-barillier/
LOCATION:Caveau des Vignerons\, Route de l'Etraz 1\, Luins\, 1184
CATEGORIES:Le Vigneron de la semaine
END:VEVENT
BEGIN:VEVENT
DTSTART;VALUE=DATE:20260928
DTEND;VALUE=DATE:20261005
DTSTAMP:20260423T065319
CREATED:20170628T105252Z
LAST-MODIFIED:20260112T060059Z
UID:1874-1790553600-1791158399@caveau-luins-vinzel.ch
SUMMARY:Les Amis des Vendangeurs
DESCRIPTION:Linda Ilic : 079 560 36 17
URL:https://caveau-luins-vinzel.ch/event/les-amis-des-vendangeurs/
LOCATION:Caveau des Vignerons\, Route de l'Etraz 1\, Luins\, 1184
CATEGORIES:Le Vigneron de la semaine
END:VEVENT
END:VCALENDAR