BEGIN:VCALENDAR
VERSION:2.0
PRODID:-//Caveau de Luins-Vinzel - ECPv6.15.20//NONSGML v1.0//EN
CALSCALE:GREGORIAN
METHOD:PUBLISH
X-WR-CALNAME:Caveau de Luins-Vinzel
X-ORIGINAL-URL:https://caveau-luins-vinzel.ch
X-WR-CALDESC:Évènements pour Caveau de Luins-Vinzel
REFRESH-INTERVAL;VALUE=DURATION:PT1H
X-Robots-Tag:noindex
X-PUBLISHED-TTL:PT1H
BEGIN:VTIMEZONE
TZID:Europe/Zurich
BEGIN:DAYLIGHT
TZOFFSETFROM:+0100
TZOFFSETTO:+0200
TZNAME:CEST
DTSTART:20250330T010000
END:DAYLIGHT
BEGIN:STANDARD
TZOFFSETFROM:+0200
TZOFFSETTO:+0100
TZNAME:CET
DTSTART:20251026T010000
END:STANDARD
BEGIN:DAYLIGHT
TZOFFSETFROM:+0100
TZOFFSETTO:+0200
TZNAME:CEST
DTSTART:20260329T010000
END:DAYLIGHT
BEGIN:STANDARD
TZOFFSETFROM:+0200
TZOFFSETTO:+0100
TZNAME:CET
DTSTART:20261025T010000
END:STANDARD
BEGIN:DAYLIGHT
TZOFFSETFROM:+0100
TZOFFSETTO:+0200
TZNAME:CEST
DTSTART:20270328T010000
END:DAYLIGHT
BEGIN:STANDARD
TZOFFSETFROM:+0200
TZOFFSETTO:+0100
TZNAME:CET
DTSTART:20271031T010000
END:STANDARD
END:VTIMEZONE
BEGIN:VEVENT
DTSTART;VALUE=DATE:20260420
DTEND;VALUE=DATE:20260427
DTSTAMP:20260422T123637
CREATED:20180205T103905Z
LAST-MODIFIED:20260110T100140Z
UID:2130-1776643200-1777247999@caveau-luins-vinzel.ch
SUMMARY:Fabien et Jean-Marc Sordet - DOMAINE DES SIEURS
DESCRIPTION:Jean-Marc SORDET \nChemin des Combes\n1184 LUINS \nTél: +41 21 824 10 75\nMobile: +41 79 279 42 78 \njmsordet@gmail.com\nhttp://www.domainedessieurs.ch/ \n\nFabien SORDET \nChemin des Combes\n1184 LUINS \nMobile: +41 76 377 20 36 \nhttp://www.domainedessieurs.ch/
URL:https://caveau-luins-vinzel.ch/event/jean-marc-et-fabien-sordet-domaine-des-sieurs-3/
LOCATION:Caveau des Vignerons\, Route de l'Etraz 1\, Luins\, 1184
CATEGORIES:Le Vigneron de la semaine
END:VEVENT
BEGIN:VEVENT
DTSTART;VALUE=DATE:20260427
DTEND;VALUE=DATE:20260504
DTSTAMP:20260422T123637
CREATED:20180207T054211Z
LAST-MODIFIED:20260110T100210Z
UID:2144-1777248000-1777852799@caveau-luins-vinzel.ch
SUMMARY:Vincent Chappuis - DOMAINE DE SERREAUX-DESSUS
DESCRIPTION:Vincent CHAPPUIS \nSerreaux-Dessus 12\n1268 BEGNINS \nTél: +41 22 565 27 30\nMobile: +41 79 245 22 92 \nhttp://www.serreaux-dessus.ch/
URL:https://caveau-luins-vinzel.ch/event/a-nicolas-et-v-chappuis-domaine-de-serreaux-dessus-2/
LOCATION:Caveau des Vignerons\, Route de l'Etraz 1\, Luins\, 1184
CATEGORIES:Le Vigneron de la semaine
END:VEVENT
END:VCALENDAR